BEGIN:VCALENDAR
VERSION:2.0
PRODID:-//The Shout! House - ECPv6.15.20//NONSGML v1.0//EN
CALSCALE:GREGORIAN
METHOD:PUBLISH
X-WR-CALNAME:The Shout! House
X-ORIGINAL-URL:https://theshouthouse.com
X-WR-CALDESC:Events for The Shout! House
REFRESH-INTERVAL;VALUE=DURATION:PT1H
X-Robots-Tag:noindex
X-PUBLISHED-TTL:PT1H
BEGIN:VTIMEZONE
TZID:America/Los_Angeles
BEGIN:DAYLIGHT
TZOFFSETFROM:-0800
TZOFFSETTO:-0700
TZNAME:PDT
DTSTART:20220313T100000
END:DAYLIGHT
BEGIN:STANDARD
TZOFFSETFROM:-0700
TZOFFSETTO:-0800
TZNAME:PST
DTSTART:20221106T090000
END:STANDARD
BEGIN:DAYLIGHT
TZOFFSETFROM:-0800
TZOFFSETTO:-0700
TZNAME:PDT
DTSTART:20230312T100000
END:DAYLIGHT
BEGIN:STANDARD
TZOFFSETFROM:-0700
TZOFFSETTO:-0800
TZNAME:PST
DTSTART:20231105T090000
END:STANDARD
BEGIN:DAYLIGHT
TZOFFSETFROM:-0800
TZOFFSETTO:-0700
TZNAME:PDT
DTSTART:20240310T100000
END:DAYLIGHT
BEGIN:STANDARD
TZOFFSETFROM:-0700
TZOFFSETTO:-0800
TZNAME:PST
DTSTART:20241103T090000
END:STANDARD
END:VTIMEZONE
BEGIN:VEVENT
DTSTART;VALUE=DATE:20230118
DTEND;VALUE=DATE:20230119
DTSTAMP:20260423T084705
CREATED:20230110T220543Z
LAST-MODIFIED:20230110T220915Z
UID:10000070-1674000000-1674086399@theshouthouse.com
SUMMARY:Piano Players: Jon\, Eric\, Courtney
DESCRIPTION:
URL:https://theshouthouse.com/event/piano-players-jon-eric-courtney/
LOCATION:CA
END:VEVENT
BEGIN:VEVENT
DTSTART;VALUE=DATE:20230119
DTEND;VALUE=DATE:20230120
DTSTAMP:20260423T084705
CREATED:20230110T220953Z
LAST-MODIFIED:20230119T195043Z
UID:10000071-1674086400-1674172799@theshouthouse.com
SUMMARY:CLOSED FOR PRIVATE EVENT. Open to Public 9:30pm
DESCRIPTION:Piano Players: Tom\, Martha\, Jeff\, Courtney
URL:https://theshouthouse.com/event/piano-players-tom-martha-jeff-courtney/
LOCATION:CA
END:VEVENT
END:VCALENDAR