BEGIN:VCALENDAR
VERSION:2.0
PRODID:-//The Shout! House - ECPv6.15.20//NONSGML v1.0//EN
CALSCALE:GREGORIAN
METHOD:PUBLISH
X-WR-CALNAME:The Shout! House
X-ORIGINAL-URL:https://theshouthouse.com
X-WR-CALDESC:Events for The Shout! House
REFRESH-INTERVAL;VALUE=DURATION:PT1H
X-Robots-Tag:noindex
X-PUBLISHED-TTL:PT1H
BEGIN:VTIMEZONE
TZID:America/Los_Angeles
BEGIN:DAYLIGHT
TZOFFSETFROM:-0800
TZOFFSETTO:-0700
TZNAME:PDT
DTSTART:20220313T100000
END:DAYLIGHT
BEGIN:STANDARD
TZOFFSETFROM:-0700
TZOFFSETTO:-0800
TZNAME:PST
DTSTART:20221106T090000
END:STANDARD
BEGIN:DAYLIGHT
TZOFFSETFROM:-0800
TZOFFSETTO:-0700
TZNAME:PDT
DTSTART:20230312T100000
END:DAYLIGHT
BEGIN:STANDARD
TZOFFSETFROM:-0700
TZOFFSETTO:-0800
TZNAME:PST
DTSTART:20231105T090000
END:STANDARD
BEGIN:DAYLIGHT
TZOFFSETFROM:-0800
TZOFFSETTO:-0700
TZNAME:PDT
DTSTART:20240310T100000
END:DAYLIGHT
BEGIN:STANDARD
TZOFFSETFROM:-0700
TZOFFSETTO:-0800
TZNAME:PST
DTSTART:20241103T090000
END:STANDARD
END:VTIMEZONE
BEGIN:VEVENT
DTSTART;VALUE=DATE:20230120
DTEND;VALUE=DATE:20230121
DTSTAMP:20260423T085456
CREATED:20230110T221034Z
LAST-MODIFIED:20230110T221034Z
UID:10000072-1674172800-1674259199@theshouthouse.com
SUMMARY:Piano Players: Jon\, Dave\, Martha\, James\, Eric
DESCRIPTION:
URL:https://theshouthouse.com/event/piano-players-jon-dave-martha-james-eric/
LOCATION:CA
END:VEVENT
BEGIN:VEVENT
DTSTART;VALUE=DATE:20230121
DTEND;VALUE=DATE:20230122
DTSTAMP:20260423T085456
CREATED:20230110T221128Z
LAST-MODIFIED:20230110T221128Z
UID:10000073-1674259200-1674345599@theshouthouse.com
SUMMARY:Piano Players: Dave\, Jeff\, Jon\, Eric\, Courtney
DESCRIPTION:
URL:https://theshouthouse.com/event/piano-players-dave-jeff-jon-eric-courtney/
LOCATION:CA
END:VEVENT
END:VCALENDAR