BEGIN:VCALENDAR
VERSION:2.0
PRODID:-//The Shout! House - ECPv6.15.20//NONSGML v1.0//EN
CALSCALE:GREGORIAN
METHOD:PUBLISH
X-ORIGINAL-URL:https://theshouthouse.com
X-WR-CALDESC:Events for The Shout! House
REFRESH-INTERVAL;VALUE=DURATION:PT1H
X-Robots-Tag:noindex
X-PUBLISHED-TTL:PT1H
BEGIN:VTIMEZONE
TZID:America/Los_Angeles
BEGIN:DAYLIGHT
TZOFFSETFROM:-0800
TZOFFSETTO:-0700
TZNAME:PDT
DTSTART:20220313T100000
END:DAYLIGHT
BEGIN:STANDARD
TZOFFSETFROM:-0700
TZOFFSETTO:-0800
TZNAME:PST
DTSTART:20221106T090000
END:STANDARD
BEGIN:DAYLIGHT
TZOFFSETFROM:-0800
TZOFFSETTO:-0700
TZNAME:PDT
DTSTART:20230312T100000
END:DAYLIGHT
BEGIN:STANDARD
TZOFFSETFROM:-0700
TZOFFSETTO:-0800
TZNAME:PST
DTSTART:20231105T090000
END:STANDARD
BEGIN:DAYLIGHT
TZOFFSETFROM:-0800
TZOFFSETTO:-0700
TZNAME:PDT
DTSTART:20240310T100000
END:DAYLIGHT
BEGIN:STANDARD
TZOFFSETFROM:-0700
TZOFFSETTO:-0800
TZNAME:PST
DTSTART:20241103T090000
END:STANDARD
END:VTIMEZONE
BEGIN:VEVENT
DTSTART;VALUE=DATE:20230222
DTEND;VALUE=DATE:20230223
DTSTAMP:20260423T073158
CREATED:20230214T010742Z
LAST-MODIFIED:20230214T010810Z
UID:10000096-1677024000-1677110399@theshouthouse.com
SUMMARY:Piano Players: Courtney\, James\, Dave
DESCRIPTION:
URL:https://theshouthouse.com/event/piano-players-courtney-james-dave/
LOCATION:CA
END:VEVENT
BEGIN:VEVENT
DTSTART;VALUE=DATE:20230223
DTEND;VALUE=DATE:20230224
DTSTAMP:20260423T073158
CREATED:20230214T010953Z
LAST-MODIFIED:20230214T010953Z
UID:10000097-1677110400-1677196799@theshouthouse.com
SUMMARY:Piano Players: Adam\, Courtney\, Jon\, Martha
DESCRIPTION:
URL:https://theshouthouse.com/event/piano-players-adam-courtney-jon-martha/
LOCATION:CA
END:VEVENT
END:VCALENDAR