BEGIN:VCALENDAR
VERSION:2.0
PRODID:-//The Shout! House - ECPv6.15.20//NONSGML v1.0//EN
CALSCALE:GREGORIAN
METHOD:PUBLISH
X-ORIGINAL-URL:https://theshouthouse.com
X-WR-CALDESC:Events for The Shout! House
REFRESH-INTERVAL;VALUE=DURATION:PT1H
X-Robots-Tag:noindex
X-PUBLISHED-TTL:PT1H
BEGIN:VTIMEZONE
TZID:America/Los_Angeles
BEGIN:DAYLIGHT
TZOFFSETFROM:-0800
TZOFFSETTO:-0700
TZNAME:PDT
DTSTART:20220313T100000
END:DAYLIGHT
BEGIN:STANDARD
TZOFFSETFROM:-0700
TZOFFSETTO:-0800
TZNAME:PST
DTSTART:20221106T090000
END:STANDARD
BEGIN:DAYLIGHT
TZOFFSETFROM:-0800
TZOFFSETTO:-0700
TZNAME:PDT
DTSTART:20230312T100000
END:DAYLIGHT
BEGIN:STANDARD
TZOFFSETFROM:-0700
TZOFFSETTO:-0800
TZNAME:PST
DTSTART:20231105T090000
END:STANDARD
BEGIN:DAYLIGHT
TZOFFSETFROM:-0800
TZOFFSETTO:-0700
TZNAME:PDT
DTSTART:20240310T100000
END:DAYLIGHT
BEGIN:STANDARD
TZOFFSETFROM:-0700
TZOFFSETTO:-0800
TZNAME:PST
DTSTART:20241103T090000
END:STANDARD
END:VTIMEZONE
BEGIN:VEVENT
DTSTART;VALUE=DATE:20230224
DTEND;VALUE=DATE:20230225
DTSTAMP:20260423T073103
CREATED:20230214T011101Z
LAST-MODIFIED:20230214T011101Z
UID:10000098-1677196800-1677283199@theshouthouse.com
SUMMARY:Piano Players: Dave\, Adam\, Jon\, Martha\, Jeff
DESCRIPTION:
URL:https://theshouthouse.com/event/piano-players-dave-adam-jon-martha-jeff/
LOCATION:CA
END:VEVENT
BEGIN:VEVENT
DTSTART;VALUE=DATE:20230225
DTEND;VALUE=DATE:20230226
DTSTAMP:20260423T073103
CREATED:20230214T011145Z
LAST-MODIFIED:20230214T011213Z
UID:10000099-1677283200-1677369599@theshouthouse.com
SUMMARY:Piano Players: Eric\, Courtney\, James\, Adam\, Dave
DESCRIPTION:
URL:https://theshouthouse.com/event/piano-players-eric-courtney-james-adam-dave/
LOCATION:CA
END:VEVENT
END:VCALENDAR