BEGIN:VCALENDAR
VERSION:2.0
PRODID:-//The Shout! House - ECPv6.15.20//NONSGML v1.0//EN
CALSCALE:GREGORIAN
METHOD:PUBLISH
X-WR-CALNAME:The Shout! House
X-ORIGINAL-URL:https://theshouthouse.com
X-WR-CALDESC:Events for The Shout! House
REFRESH-INTERVAL;VALUE=DURATION:PT1H
X-Robots-Tag:noindex
X-PUBLISHED-TTL:PT1H
BEGIN:VTIMEZONE
TZID:America/Los_Angeles
BEGIN:DAYLIGHT
TZOFFSETFROM:-0800
TZOFFSETTO:-0700
TZNAME:PDT
DTSTART:20220313T100000
END:DAYLIGHT
BEGIN:STANDARD
TZOFFSETFROM:-0700
TZOFFSETTO:-0800
TZNAME:PST
DTSTART:20221106T090000
END:STANDARD
BEGIN:DAYLIGHT
TZOFFSETFROM:-0800
TZOFFSETTO:-0700
TZNAME:PDT
DTSTART:20230312T100000
END:DAYLIGHT
BEGIN:STANDARD
TZOFFSETFROM:-0700
TZOFFSETTO:-0800
TZNAME:PST
DTSTART:20231105T090000
END:STANDARD
BEGIN:DAYLIGHT
TZOFFSETFROM:-0800
TZOFFSETTO:-0700
TZNAME:PDT
DTSTART:20240310T100000
END:DAYLIGHT
BEGIN:STANDARD
TZOFFSETFROM:-0700
TZOFFSETTO:-0800
TZNAME:PST
DTSTART:20241103T090000
END:STANDARD
END:VTIMEZONE
BEGIN:VEVENT
DTSTART;VALUE=DATE:20230519
DTEND;VALUE=DATE:20230520
DTSTAMP:20260423T162555
CREATED:20230509T213204Z
LAST-MODIFIED:20230509T213219Z
UID:10000176-1684454400-1684540799@theshouthouse.com
SUMMARY:Doors 6pm\, Piano\, 6:30pm\, Piano Players: James\, Jeff\, Courtney\, Adam\, Dave
DESCRIPTION:
URL:https://theshouthouse.com/event/doors-6pm-piano-630pm-piano-players-james-jeff-courtney-adam-dave/
LOCATION:CA
END:VEVENT
BEGIN:VEVENT
DTSTART;VALUE=DATE:20230520
DTEND;VALUE=DATE:20230521
DTSTAMP:20260423T162555
CREATED:20230509T213915Z
LAST-MODIFIED:20230509T213957Z
UID:10000178-1684540800-1684627199@theshouthouse.com
SUMMARY:Doors: 6pm\, Pianos 6:30pm\, Piano Players: Bill\, Jon\, James\, Courtney\, Eric
DESCRIPTION:
URL:https://theshouthouse.com/event/doors-6pm-pianos-630pm-piano-players-bill-jon-james-courtney-eric-2/
LOCATION:CA
END:VEVENT
END:VCALENDAR