BEGIN:VCALENDAR
VERSION:2.0
PRODID:-//The Shout! House - ECPv6.15.20//NONSGML v1.0//EN
CALSCALE:GREGORIAN
METHOD:PUBLISH
X-ORIGINAL-URL:https://theshouthouse.com
X-WR-CALDESC:Events for The Shout! House
REFRESH-INTERVAL;VALUE=DURATION:PT1H
X-Robots-Tag:noindex
X-PUBLISHED-TTL:PT1H
BEGIN:VTIMEZONE
TZID:America/Los_Angeles
BEGIN:DAYLIGHT
TZOFFSETFROM:-0800
TZOFFSETTO:-0700
TZNAME:PDT
DTSTART:20210314T100000
END:DAYLIGHT
BEGIN:STANDARD
TZOFFSETFROM:-0700
TZOFFSETTO:-0800
TZNAME:PST
DTSTART:20211107T090000
END:STANDARD
BEGIN:DAYLIGHT
TZOFFSETFROM:-0800
TZOFFSETTO:-0700
TZNAME:PDT
DTSTART:20220313T100000
END:DAYLIGHT
BEGIN:STANDARD
TZOFFSETFROM:-0700
TZOFFSETTO:-0800
TZNAME:PST
DTSTART:20221106T090000
END:STANDARD
BEGIN:DAYLIGHT
TZOFFSETFROM:-0800
TZOFFSETTO:-0700
TZNAME:PDT
DTSTART:20230312T100000
END:DAYLIGHT
BEGIN:STANDARD
TZOFFSETFROM:-0700
TZOFFSETTO:-0800
TZNAME:PST
DTSTART:20231105T090000
END:STANDARD
END:VTIMEZONE
BEGIN:VEVENT
DTSTART;VALUE=DATE:20221129
DTEND;VALUE=DATE:20221130
DTSTAMP:20260423T114445
CREATED:20221116T215031Z
LAST-MODIFIED:20221116T215031Z
UID:10000021-1669680000-1669766399@theshouthouse.com
SUMMARY:PIANO PLAYERS: COURTNEY\, JEFF\, MARTHA
DESCRIPTION:
URL:https://theshouthouse.com/event/piano-players-courtney-jeff-martha/
LOCATION:CA
END:VEVENT
BEGIN:VEVENT
DTSTART;VALUE=DATE:20221130
DTEND;VALUE=DATE:20221201
DTSTAMP:20260423T114445
CREATED:20221116T215147Z
LAST-MODIFIED:20221116T215147Z
UID:10000022-1669766400-1669852799@theshouthouse.com
SUMMARY:PIANO PLAYERS: COURTNEY\, JEFF\, ERIC
DESCRIPTION:
URL:https://theshouthouse.com/event/piano-players-courtney-jeff-eric/
LOCATION:CA
END:VEVENT
BEGIN:VEVENT
DTSTART;VALUE=DATE:20221201
DTEND;VALUE=DATE:20221202
DTSTAMP:20260423T114445
CREATED:20221116T215238Z
LAST-MODIFIED:20221116T215309Z
UID:10000023-1669852800-1669939199@theshouthouse.com
SUMMARY:PIANO PLAYERS: JAMES\, MARTHA\, JON
DESCRIPTION:
URL:https://theshouthouse.com/event/piano-players-james-martha-jon/
LOCATION:CA
END:VEVENT
BEGIN:VEVENT
DTSTART;VALUE=DATE:20221202
DTEND;VALUE=DATE:20221203
DTSTAMP:20260423T114445
CREATED:20221116T215353Z
LAST-MODIFIED:20221116T215406Z
UID:10000024-1669939200-1670025599@theshouthouse.com
SUMMARY:PIANO PLAYERS: TOM\, JON\, MARTHA\, DAVE\, JAMES
DESCRIPTION:
URL:https://theshouthouse.com/event/piano-players-tom-jon-martha-dave-james/
LOCATION:CA
END:VEVENT
BEGIN:VEVENT
DTSTART;VALUE=DATE:20221203
DTEND;VALUE=DATE:20221204
DTSTAMP:20260423T114445
CREATED:20221116T215641Z
LAST-MODIFIED:20221116T215641Z
UID:10000025-1670025600-1670111999@theshouthouse.com
SUMMARY:PIANO PLAYERS: JON\, JAMES\, ERIC\, DAVE\, MARTHA
DESCRIPTION:
URL:https://theshouthouse.com/event/piano-players-jon-james-eric-dave-martha/
LOCATION:CA
END:VEVENT
BEGIN:VEVENT
DTSTART;VALUE=DATE:20221204
DTEND;VALUE=DATE:20221205
DTSTAMP:20260423T114445
CREATED:20221116T215721Z
LAST-MODIFIED:20221116T215721Z
UID:10000026-1670112000-1670198399@theshouthouse.com
SUMMARY:PIANO PLAYERS: TOM\, ERIC\, DAVE
DESCRIPTION:
URL:https://theshouthouse.com/event/piano-players-tom-eric-dave/
LOCATION:CA
END:VEVENT
END:VCALENDAR