BEGIN:VCALENDAR
VERSION:2.0
PRODID:-//The Shout! House - ECPv6.15.20//NONSGML v1.0//EN
CALSCALE:GREGORIAN
METHOD:PUBLISH
X-ORIGINAL-URL:https://theshouthouse.com
X-WR-CALDESC:Events for The Shout! House
REFRESH-INTERVAL;VALUE=DURATION:PT1H
X-Robots-Tag:noindex
X-PUBLISHED-TTL:PT1H
BEGIN:VTIMEZONE
TZID:America/Los_Angeles
BEGIN:DAYLIGHT
TZOFFSETFROM:-0800
TZOFFSETTO:-0700
TZNAME:PDT
DTSTART:20210314T100000
END:DAYLIGHT
BEGIN:STANDARD
TZOFFSETFROM:-0700
TZOFFSETTO:-0800
TZNAME:PST
DTSTART:20211107T090000
END:STANDARD
BEGIN:DAYLIGHT
TZOFFSETFROM:-0800
TZOFFSETTO:-0700
TZNAME:PDT
DTSTART:20220313T100000
END:DAYLIGHT
BEGIN:STANDARD
TZOFFSETFROM:-0700
TZOFFSETTO:-0800
TZNAME:PST
DTSTART:20221106T090000
END:STANDARD
BEGIN:DAYLIGHT
TZOFFSETFROM:-0800
TZOFFSETTO:-0700
TZNAME:PDT
DTSTART:20230312T100000
END:DAYLIGHT
BEGIN:STANDARD
TZOFFSETFROM:-0700
TZOFFSETTO:-0800
TZNAME:PST
DTSTART:20231105T090000
END:STANDARD
END:VTIMEZONE
BEGIN:VEVENT
DTSTART;TZID=America/Los_Angeles:20221219T170000
DTEND;TZID=America/Los_Angeles:20221219T193000
DTSTAMP:20260423T132336
CREATED:20221205T180129Z
LAST-MODIFIED:20221213T200309Z
UID:10000049-1671469200-1671478200@theshouthouse.com
SUMMARY:Family Night/ Holiday Special - SOLD OUT
DESCRIPTION:Join us for our Annual Family Night/Holiday Special\, ALL AGES Show. Bring the whole family\, and enjoy a fun event with a family friendly dueling piano show. \nWalk-ins are welcome for standing room by the bar – $15 Cover at the door\nShow – Doors 5:00pm\, Pianos 5:30-7:30pm \nPIANO PLAYERS: Eric\, Dave\, Martha\, Tom \n*No Regular 21+ Show after Family Night Event \n\nRESERVATIONS
URL:https://theshouthouse.com/event/family-night-holiday-special/
LOCATION:The Shout! House\, 655 4th Ave\, San Diego\, CA\, 92101\, United States
ATTACH;FMTTYPE=image/jpeg:https://theshouthouse.com/wp-content/uploads/2022/12/Family-Night-12-19-SOLD-OUT.jpg
END:VEVENT
BEGIN:VEVENT
DTSTART;VALUE=DATE:20221220
DTEND;VALUE=DATE:20221221
DTSTAMP:20260423T132336
CREATED:20221129T212451Z
LAST-MODIFIED:20221205T191731Z
UID:10000043-1671494400-1671580799@theshouthouse.com
SUMMARY:PIANO PLAYERS: Jon\, Martha\, Dave
DESCRIPTION:
URL:https://theshouthouse.com/event/piano-players-eric-courtney-dave/
LOCATION:CA
END:VEVENT
BEGIN:VEVENT
DTSTART;VALUE=DATE:20221221
DTEND;VALUE=DATE:20221222
DTSTAMP:20260423T132336
CREATED:20221129T212605Z
LAST-MODIFIED:20221205T191823Z
UID:10000044-1671580800-1671667199@theshouthouse.com
SUMMARY:PIANO PLAYERS: Tom\, James\, Courtney
DESCRIPTION:
URL:https://theshouthouse.com/event/piano-players-tom-james-martha/
LOCATION:CA
END:VEVENT
BEGIN:VEVENT
DTSTART;VALUE=DATE:20221222
DTEND;VALUE=DATE:20221223
DTSTAMP:20260423T132336
CREATED:20221129T212700Z
LAST-MODIFIED:20221129T212700Z
UID:10000045-1671667200-1671753599@theshouthouse.com
SUMMARY:PIANO PLAYERS: Jon\, James\, Eric\, Dave
DESCRIPTION:
URL:https://theshouthouse.com/event/piano-players-jon-james-eric-dave/
LOCATION:CA
END:VEVENT
BEGIN:VEVENT
DTSTART;TZID=America/Los_Angeles:20221223T180000
DTEND;TZID=America/Los_Angeles:20221223T233000
DTSTAMP:20260423T132336
CREATED:20221116T221634Z
LAST-MODIFIED:20221205T192142Z
UID:10000032-1671818400-1671838200@theshouthouse.com
SUMMARY:UGLY SWEATERS & DUELING PIANOS
DESCRIPTION:Join us  for an evening with Ugly Sweaters and Dueling Pianos.  \nWear your ugliest sweater for a chance to win a Prize. \nDoors at 6\, Pianos at 6:30pm \nPIANO PLAYERS: Courtney\, Dave\, Eric\, Jon\, Martha \nRESERVATIONS
URL:https://theshouthouse.com/event/christmas-eve-2/
LOCATION:The Shout! House\, 655 4th Ave\, San Diego\, CA\, 92101\, United States
ATTACH;FMTTYPE=image/jpeg:https://theshouthouse.com/wp-content/uploads/2022/11/Ugly-Sweaters-Dueling-Pianos.jpg
END:VEVENT
BEGIN:VEVENT
DTSTART;VALUE=DATE:20221224
DTEND;VALUE=DATE:20221225
DTSTAMP:20260423T132336
CREATED:20221202T205122Z
LAST-MODIFIED:20221202T212929Z
UID:10000048-1671840000-1671926399@theshouthouse.com
SUMMARY:CLOSED - Christmas Eve
DESCRIPTION:
URL:https://theshouthouse.com/event/christmas-eve-closed/
LOCATION:CA
END:VEVENT
BEGIN:VEVENT
DTSTART;VALUE=DATE:20221225
DTEND;VALUE=DATE:20221226
DTSTAMP:20260423T132336
CREATED:20221129T212820Z
LAST-MODIFIED:20221129T212820Z
UID:10000047-1671926400-1672012799@theshouthouse.com
SUMMARY:CLOSED: Merry Christmas
DESCRIPTION:
URL:https://theshouthouse.com/event/closed-merry-christmas/
LOCATION:CA
END:VEVENT
END:VCALENDAR