BEGIN:VCALENDAR
VERSION:2.0
PRODID:-//The Shout! House - ECPv6.15.20//NONSGML v1.0//EN
CALSCALE:GREGORIAN
METHOD:PUBLISH
X-WR-CALNAME:The Shout! House
X-ORIGINAL-URL:https://theshouthouse.com
X-WR-CALDESC:Events for The Shout! House
REFRESH-INTERVAL;VALUE=DURATION:PT1H
X-Robots-Tag:noindex
X-PUBLISHED-TTL:PT1H
BEGIN:VTIMEZONE
TZID:America/Los_Angeles
BEGIN:DAYLIGHT
TZOFFSETFROM:-0800
TZOFFSETTO:-0700
TZNAME:PDT
DTSTART:20220313T100000
END:DAYLIGHT
BEGIN:STANDARD
TZOFFSETFROM:-0700
TZOFFSETTO:-0800
TZNAME:PST
DTSTART:20221106T090000
END:STANDARD
BEGIN:DAYLIGHT
TZOFFSETFROM:-0800
TZOFFSETTO:-0700
TZNAME:PDT
DTSTART:20230312T100000
END:DAYLIGHT
BEGIN:STANDARD
TZOFFSETFROM:-0700
TZOFFSETTO:-0800
TZNAME:PST
DTSTART:20231105T090000
END:STANDARD
BEGIN:DAYLIGHT
TZOFFSETFROM:-0800
TZOFFSETTO:-0700
TZNAME:PDT
DTSTART:20240310T100000
END:DAYLIGHT
BEGIN:STANDARD
TZOFFSETFROM:-0700
TZOFFSETTO:-0800
TZNAME:PST
DTSTART:20241103T090000
END:STANDARD
END:VTIMEZONE
BEGIN:VEVENT
DTSTART;VALUE=DATE:20230321
DTEND;VALUE=DATE:20230322
DTSTAMP:20260423T073049
CREATED:20230317T225530Z
LAST-MODIFIED:20230317T225530Z
UID:10000120-1679356800-1679443199@theshouthouse.com
SUMMARY:Piano Players: Eric\, Dave\, Courtney
DESCRIPTION:
URL:https://theshouthouse.com/event/piano-players-eric-dave-courtney/
LOCATION:CA
END:VEVENT
BEGIN:VEVENT
DTSTART;VALUE=DATE:20230322
DTEND;VALUE=DATE:20230323
DTSTAMP:20260423T073049
CREATED:20230317T225610Z
LAST-MODIFIED:20230317T225610Z
UID:10000121-1679443200-1679529599@theshouthouse.com
SUMMARY:Piano Players: Martha\, Courtney\, Jeff
DESCRIPTION:
URL:https://theshouthouse.com/event/piano-players-martha-courtney-jeff/
LOCATION:CA
END:VEVENT
BEGIN:VEVENT
DTSTART;VALUE=DATE:20230323
DTEND;VALUE=DATE:20230324
DTSTAMP:20260423T073049
CREATED:20230225T023449Z
LAST-MODIFIED:20230317T231244Z
UID:10000108-1679529600-1679615999@theshouthouse.com
SUMMARY:Yacht Rock Party - 19 Year Anniversary
DESCRIPTION:Ahoy there\, mateys! It’s time to celebrate 19 years of smooth sailing with our Yacht Rock anniversary party on Thursday\, March 23rd! Join us as we set sail on a musical journey with our talented Dueling Pianos performers. \nThe party starts at 7 pm\, and we’ll be offering free cover for all guests wearing nautical attire. So grab your sailor hats\, captain’s jackets\, and boat shoes\, and join us for a night of nautical fun! \nAt 8 pm\, our Dueling Pianos performers will take to the stage and guide us through an unforgettable night of live music. They’ll be playing all your favorite Yacht Rock hits\, so get ready to sing along\, dance\, and party like it’s 1979! \nPlus\, we’ll have plenty of delicious cocktails and tasty bites available to keep you fueled up for the night ahead. So bring your crew and come celebrate 19 years of Dueling Pianos in the Gaslamp on Thursday March 23rd! \nGet your tickets now and let’s party like it’s Yacht Rockin’ time! \n$5 Cover at the door with College or Military ID \nReservations are recommended for guaranteed seating\nTABLE RESERVATIONS \n 
URL:https://theshouthouse.com/event/yacht-rock-party-19-year-anniversary/
LOCATION:The Shout! House\, 655 4th Ave\, San Diego\, CA\, 92101\, United States
CATEGORIES:Themed Event
ATTACH;FMTTYPE=image/jpeg:https://theshouthouse.com/wp-content/uploads/2023/02/Yacht-Rock-Party-3-23-23.jpg
END:VEVENT
BEGIN:VEVENT
DTSTART;VALUE=DATE:20230324
DTEND;VALUE=DATE:20230325
DTSTAMP:20260423T073049
CREATED:20230317T225705Z
LAST-MODIFIED:20230317T225705Z
UID:10000122-1679616000-1679702399@theshouthouse.com
SUMMARY:Piano Players: Martha\, Dave\, Courtney\, Eric\, Adam
DESCRIPTION:
URL:https://theshouthouse.com/event/piano-players-martha-dave-courtney-eric-adam/
LOCATION:CA
END:VEVENT
BEGIN:VEVENT
DTSTART;VALUE=DATE:20230325
DTEND;VALUE=DATE:20230326
DTSTAMP:20260423T073049
CREATED:20230317T225740Z
LAST-MODIFIED:20230317T225755Z
UID:10000123-1679702400-1679788799@theshouthouse.com
SUMMARY:Piano Players: Courtney\, Jeff\, Eric\, Adam\, Martha
DESCRIPTION:
URL:https://theshouthouse.com/event/piano-players-courtney-jeff-eric-adam-martha/
LOCATION:CA
END:VEVENT
BEGIN:VEVENT
DTSTART;VALUE=DATE:20230326
DTEND;VALUE=DATE:20230327
DTSTAMP:20260423T073049
CREATED:20230317T225833Z
LAST-MODIFIED:20230317T225833Z
UID:10000124-1679788800-1679875199@theshouthouse.com
SUMMARY:Piano Players: Dave\, Martha\, James
DESCRIPTION:
URL:https://theshouthouse.com/event/piano-players-dave-martha-james/
LOCATION:CA
END:VEVENT
END:VCALENDAR