BEGIN:VCALENDAR
VERSION:2.0
PRODID:-//The Shout! House - ECPv6.15.20//NONSGML v1.0//EN
CALSCALE:GREGORIAN
METHOD:PUBLISH
X-ORIGINAL-URL:https://theshouthouse.com
X-WR-CALDESC:Events for The Shout! House
REFRESH-INTERVAL;VALUE=DURATION:PT1H
X-Robots-Tag:noindex
X-PUBLISHED-TTL:PT1H
BEGIN:VTIMEZONE
TZID:America/Los_Angeles
BEGIN:DAYLIGHT
TZOFFSETFROM:-0800
TZOFFSETTO:-0700
TZNAME:PDT
DTSTART:20220313T100000
END:DAYLIGHT
BEGIN:STANDARD
TZOFFSETFROM:-0700
TZOFFSETTO:-0800
TZNAME:PST
DTSTART:20221106T090000
END:STANDARD
BEGIN:DAYLIGHT
TZOFFSETFROM:-0800
TZOFFSETTO:-0700
TZNAME:PDT
DTSTART:20230312T100000
END:DAYLIGHT
BEGIN:STANDARD
TZOFFSETFROM:-0700
TZOFFSETTO:-0800
TZNAME:PST
DTSTART:20231105T090000
END:STANDARD
BEGIN:DAYLIGHT
TZOFFSETFROM:-0800
TZOFFSETTO:-0700
TZNAME:PDT
DTSTART:20240310T100000
END:DAYLIGHT
BEGIN:STANDARD
TZOFFSETFROM:-0700
TZOFFSETTO:-0800
TZNAME:PST
DTSTART:20241103T090000
END:STANDARD
END:VTIMEZONE
BEGIN:VEVENT
DTSTART;VALUE=DATE:20230502
DTEND;VALUE=DATE:20230503
DTSTAMP:20260423T132337
CREATED:20230421T201418Z
LAST-MODIFIED:20230421T201437Z
UID:10000166-1682985600-1683071999@theshouthouse.com
SUMMARY:Piano Players: Eric\, Dave\, Courtney
DESCRIPTION:
URL:https://theshouthouse.com/event/piano-players-eric-dave-courtney-3/
LOCATION:CA
END:VEVENT
BEGIN:VEVENT
DTSTART;VALUE=DATE:20230503
DTEND;VALUE=DATE:20230504
DTSTAMP:20260423T132337
CREATED:20230421T201518Z
LAST-MODIFIED:20230421T201518Z
UID:10000167-1683072000-1683158399@theshouthouse.com
SUMMARY:Piano Players: Tom\, Jon\, Eric
DESCRIPTION:
URL:https://theshouthouse.com/event/piano-players-tom-jon-eric-2/
LOCATION:CA
END:VEVENT
BEGIN:VEVENT
DTSTART;VALUE=DATE:20230504
DTEND;VALUE=DATE:20230505
DTSTAMP:20260423T132337
CREATED:20230421T201608Z
LAST-MODIFIED:20230421T201608Z
UID:10000168-1683158400-1683244799@theshouthouse.com
SUMMARY:Piano Players: James\, Jon\, Jeff
DESCRIPTION:
URL:https://theshouthouse.com/event/piano-players-james-jon-jeff-2/
LOCATION:CA
END:VEVENT
BEGIN:VEVENT
DTSTART;VALUE=DATE:20230505
DTEND;VALUE=DATE:20230506
DTSTAMP:20260423T132337
CREATED:20230320T234256Z
LAST-MODIFIED:20230425T234428Z
UID:10000130-1683244800-1683331199@theshouthouse.com
SUMMARY:Cinco de Drinko
DESCRIPTION:Get ready to fiesta like there’s no mañana as we celebrate Cinco de Mayo at The Shout! House on Friday\, May 5th. Doors open at 6:00pm\, and the dueling pianos start at 6:30pm. \nGet ready for an unforgettable night and of course\, tequila! Our talented pianists will be taking requests and playing all of your favorite songs\, as you sip on our delicious tequila specials and soak up the festive atmosphere. \nWhether you’re looking to let loose or simply relax with friends and enjoy the show\, this event has something for everyone. And with our unbeatable drink specials\, you can celebrate Cinco de Mayo in style without breaking the bank. \nSo put on your sombrero and get ready to party! This event is sure to sell out fast\, so make sure to get your tickets early. We can’t wait to see you at the Shout! House Cinco de Mayo celebration on Friday\, May 5th. ¡Viva la fiesta! \n$2 off All Specialty Drinks (6pm-7pm)$16 Hurricanes & You Keep the Glass\, $13 Refills$12 Big Ass Beer Bud Light or Coors Light & You Keep the Cup\, $10 Refills \n			\n				RESERVATIONS
URL:https://theshouthouse.com/event/cinco-de-drinko/
LOCATION:The Shout! House\, 655 4th Ave\, San Diego\, CA\, 92101\, United States
CATEGORIES:Themed Event
ATTACH;FMTTYPE=image/jpeg:https://theshouthouse.com/wp-content/uploads/2023/03/Cinco-de-Drinko.jpg
END:VEVENT
BEGIN:VEVENT
DTSTART;VALUE=DATE:20230505
DTEND;VALUE=DATE:20230506
DTSTAMP:20260423T132337
CREATED:20230421T201656Z
LAST-MODIFIED:20230421T201712Z
UID:10000169-1683244800-1683331199@theshouthouse.com
SUMMARY:Piano Players: Tom\, Courtney\, James\, Eric\, Jeff
DESCRIPTION:
URL:https://theshouthouse.com/event/piano-players-tom-courtney-james-eric-jeff-2/
LOCATION:CA
END:VEVENT
BEGIN:VEVENT
DTSTART;VALUE=DATE:20230506
DTEND;VALUE=DATE:20230507
DTSTAMP:20260423T132337
CREATED:20230421T201753Z
LAST-MODIFIED:20230421T201809Z
UID:10000170-1683331200-1683417599@theshouthouse.com
SUMMARY:Piano Players: James\, Eric\, Courtney\, Jon\, Dave
DESCRIPTION:
URL:https://theshouthouse.com/event/piano-players-james-eric-courtney-jon-dave/
LOCATION:CA
END:VEVENT
BEGIN:VEVENT
DTSTART;VALUE=DATE:20230507
DTEND;VALUE=DATE:20230508
DTSTAMP:20260423T132337
CREATED:20230419T203854Z
LAST-MODIFIED:20230419T203854Z
UID:10000159-1683417600-1683503999@theshouthouse.com
SUMMARY:PIANO PLAYERS: TOM\, DAVE\, JON
DESCRIPTION:
URL:https://theshouthouse.com/event/piano-players-tom-dave-jon/
LOCATION:CA
END:VEVENT
END:VCALENDAR