BEGIN:VCALENDAR
VERSION:2.0
PRODID:-//The Shout! House - ECPv6.15.20//NONSGML v1.0//EN
CALSCALE:GREGORIAN
METHOD:PUBLISH
X-ORIGINAL-URL:https://theshouthouse.com
X-WR-CALDESC:Events for The Shout! House
REFRESH-INTERVAL;VALUE=DURATION:PT1H
X-Robots-Tag:noindex
X-PUBLISHED-TTL:PT1H
BEGIN:VTIMEZONE
TZID:America/Los_Angeles
BEGIN:DAYLIGHT
TZOFFSETFROM:-0800
TZOFFSETTO:-0700
TZNAME:PDT
DTSTART:20220313T100000
END:DAYLIGHT
BEGIN:STANDARD
TZOFFSETFROM:-0700
TZOFFSETTO:-0800
TZNAME:PST
DTSTART:20221106T090000
END:STANDARD
BEGIN:DAYLIGHT
TZOFFSETFROM:-0800
TZOFFSETTO:-0700
TZNAME:PDT
DTSTART:20230312T100000
END:DAYLIGHT
BEGIN:STANDARD
TZOFFSETFROM:-0700
TZOFFSETTO:-0800
TZNAME:PST
DTSTART:20231105T090000
END:STANDARD
BEGIN:DAYLIGHT
TZOFFSETFROM:-0800
TZOFFSETTO:-0700
TZNAME:PDT
DTSTART:20240310T100000
END:DAYLIGHT
BEGIN:STANDARD
TZOFFSETFROM:-0700
TZOFFSETTO:-0800
TZNAME:PST
DTSTART:20241103T090000
END:STANDARD
END:VTIMEZONE
BEGIN:VEVENT
DTSTART;VALUE=DATE:20230509
DTEND;VALUE=DATE:20230510
DTSTAMP:20260423T144905
CREATED:20230419T203932Z
LAST-MODIFIED:20230419T204045Z
UID:10000160-1683590400-1683676799@theshouthouse.com
SUMMARY:PIANO PLAYERS: JEFF\, JAMES\, DAVE
DESCRIPTION:
URL:https://theshouthouse.com/event/piano-players-jeff-james-dave/
LOCATION:CA
END:VEVENT
BEGIN:VEVENT
DTSTART;VALUE=DATE:20230510
DTEND;VALUE=DATE:20230511
DTSTAMP:20260423T144905
CREATED:20230419T204129Z
LAST-MODIFIED:20230419T204140Z
UID:10000161-1683676800-1683763199@theshouthouse.com
SUMMARY:PIANO PLAYERS: ERIC\, JEFF\, COURTNEY
DESCRIPTION:
URL:https://theshouthouse.com/event/piano-players-eric-jeff-courtney/
LOCATION:CA
END:VEVENT
BEGIN:VEVENT
DTSTART;VALUE=DATE:20230511
DTEND;VALUE=DATE:20230512
DTSTAMP:20260423T144905
CREATED:20230419T204213Z
LAST-MODIFIED:20230419T204334Z
UID:10000162-1683763200-1683849599@theshouthouse.com
SUMMARY:PIANO PLAYERS: TOM\, JEFF\, JAMES\, DAVE
DESCRIPTION:
URL:https://theshouthouse.com/event/piano-players-tom-jeff-james-dave/
LOCATION:CA
END:VEVENT
BEGIN:VEVENT
DTSTART;VALUE=DATE:20230512
DTEND;VALUE=DATE:20230513
DTSTAMP:20260423T144905
CREATED:20230419T204428Z
LAST-MODIFIED:20230419T204428Z
UID:10000163-1683849600-1683935999@theshouthouse.com
SUMMARY:PIANO PLAYERS: TOM\, JON\, ERIC\, COURTNEY\, DAVE
DESCRIPTION:
URL:https://theshouthouse.com/event/piano-players-tom-jon-eric-courtney-dave/
LOCATION:CA
END:VEVENT
BEGIN:VEVENT
DTSTART;VALUE=DATE:20230513
DTEND;VALUE=DATE:20230514
DTSTAMP:20260423T144905
CREATED:20230419T204549Z
LAST-MODIFIED:20230419T204549Z
UID:10000164-1683936000-1684022399@theshouthouse.com
SUMMARY:PIANO PLAYERS: JON\, JAMES\, ERIC\, COURTNEY\, JEFF
DESCRIPTION:
URL:https://theshouthouse.com/event/piano-players-jon-james-eric-courtney-jeff/
LOCATION:CA
END:VEVENT
BEGIN:VEVENT
DTSTART;VALUE=DATE:20230514
DTEND;VALUE=DATE:20230515
DTSTAMP:20260423T144905
CREATED:20230320T233213Z
LAST-MODIFIED:20230509T223416Z
UID:10000129-1684022400-1684108799@theshouthouse.com
SUMMARY:Mother's Day/ Dueling Dizney Family Night
DESCRIPTION:Join us for a Magical Mother’s Day celebration with your entire family\, at our All Ages\, Dizney themed event\, on Sunday May 14th. \nThis event is perfect for families of all ages\, so bring your kids\, your parents\, and your grandparents for a family friendly dueling piano show. And\, of course\, we’ll be celebrating all of the amazing mothers out there \n1st Show: Doors 1pm\, Pianos 1:30-3pm SOLD OUT2nd Show: Doors 4pm\, Pianos 4:30-6pm SOLD OUT \nThis is a one-of-a-kind event that you won’t want to miss.Tickets are SOLD OUT! \nPIANO PLAYERS: DAVE\, JAMES\, JON \n			\n				Reservations
URL:https://theshouthouse.com/event/mothers-day-disney-family-night/
LOCATION:The Shout! House\, 655 4th Ave\, San Diego\, CA\, 92101\, United States
CATEGORIES:Family Friendly All Ages,Themed Event
ATTACH;FMTTYPE=image/jpeg:https://theshouthouse.com/wp-content/uploads/2023/03/Mothers-Day-2023.jpg
END:VEVENT
END:VCALENDAR